BEGIN:VCALENDAR
VERSION:2.0
PRODID:-//IP.Board Calendar 4.6.5.1//EN
METHOD:PUBLISH
CALSCALE:GREGORIAN
X-WR-CALNAME:Конкурсы
BEGIN:VTIMEZONE
TZID:Europe/London
TZURL:http://tzurl.org/zoneinfo/Europe/London
X-LIC-LOCATION:Europe/London
BEGIN:DAYLIGHT
TZOFFSETFROM:+0000
TZOFFSETTO:+0100
TZNAME:BST
DTSTART:20230326T020000Z
RRULE:FREQ=YEARLY;BYMONTH=3;BYDAY=-1SU
END:DAYLIGHT
BEGIN:STANDARD
TZOFFSETFROM:+0100
TZOFFSETTO:+0000
TZNAME:GMT
DTSTART:20231029T020000Z
RRULE:FREQ=YEARLY;BYMONTH=10;BYDAY=-1SU
END:STANDARD
END:VTIMEZONE
BEGIN:VEVENT
SUMMARY:Конкурс \"Летучие герои\"
DTSTAMP:20230901T110738Z
SEQUENCE:0
UID:264-2-e66766347a42f75ad8d444b59597ac3a@www.redwall.ru
ORGANIZER;CN="Мартин":info@redwall.ru
DESCRIPTION:\n\n	 \n\n
DTSTART:20230831T220000Z
DTEND:20231015T215900Z
ATTENDEE;CN="Меланхолический Кот";CUTYPE=I
	NDIVIDUAL;PARTSTAT=ACCEPTED:info@redwall.ru
ATTENDEE;CN="Мартин";CUTYPE=INDIVIDUAL;PARTSTAT=ACCEPT
	ED:info@redwall.ru
ATTENDEE;CN="Greedy";CUTYPE=INDIVIDUAL;PARTSTAT=ACCEPTED:inf
	o@redwall.ru
END:VEVENT
END:VCALENDAR
